BEGIN:VCALENDAR
VERSION:2.0
PRODID:-//WIMBERGER Sportunion Lasberg - ECPv6.13.1//NONSGML v1.0//EN
CALSCALE:GREGORIAN
METHOD:PUBLISH
X-WR-CALNAME:WIMBERGER Sportunion Lasberg
X-ORIGINAL-URL:https://www.union-lasberg.at
X-WR-CALDESC:Veranstaltungen für WIMBERGER Sportunion Lasberg
REFRESH-INTERVAL;VALUE=DURATION:PT1H
X-Robots-Tag:noindex
X-PUBLISHED-TTL:PT1H
BEGIN:VTIMEZONE
TZID:Europe/Vienna
BEGIN:DAYLIGHT
TZOFFSETFROM:+0100
TZOFFSETTO:+0200
TZNAME:CEST
DTSTART:20220327T010000
END:DAYLIGHT
BEGIN:STANDARD
TZOFFSETFROM:+0200
TZOFFSETTO:+0100
TZNAME:CET
DTSTART:20221030T010000
END:STANDARD
BEGIN:DAYLIGHT
TZOFFSETFROM:+0100
TZOFFSETTO:+0200
TZNAME:CEST
DTSTART:20230326T010000
END:DAYLIGHT
BEGIN:STANDARD
TZOFFSETFROM:+0200
TZOFFSETTO:+0100
TZNAME:CET
DTSTART:20231029T010000
END:STANDARD
BEGIN:DAYLIGHT
TZOFFSETFROM:+0100
TZOFFSETTO:+0200
TZNAME:CEST
DTSTART:20240331T010000
END:DAYLIGHT
BEGIN:STANDARD
TZOFFSETFROM:+0200
TZOFFSETTO:+0100
TZNAME:CET
DTSTART:20241027T010000
END:STANDARD
BEGIN:DAYLIGHT
TZOFFSETFROM:+0100
TZOFFSETTO:+0200
TZNAME:CEST
DTSTART:20250330T010000
END:DAYLIGHT
BEGIN:STANDARD
TZOFFSETFROM:+0200
TZOFFSETTO:+0100
TZNAME:CET
DTSTART:20251026T010000
END:STANDARD
END:VTIMEZONE
BEGIN:VEVENT
DTSTART;TZID=Europe/Vienna:20250518T130000
DTEND;TZID=Europe/Vienna:20250518T210000
DTSTAMP:20260425T141359
CREATED:20250320T100838Z
LAST-MODIFIED:20250320T100838Z
UID:1746117-1747573200-1747602000@www.union-lasberg.at
SUMMARY:10. Lasberger Brückenlauf
DESCRIPTION:
URL:https://www.union-lasberg.at/event/10-lasberger-brueckenlauf/
CATEGORIES:Laufen
END:VEVENT
BEGIN:VEVENT
DTSTART;TZID=Europe/Vienna:20250503T203000
DTEND;TZID=Europe/Vienna:20250504T020000
DTSTAMP:20260425T141359
CREATED:20250320T100712Z
LAST-MODIFIED:20250320T100712Z
UID:1745844-1746304200-1746324000@www.union-lasberg.at
SUMMARY:Spring Beats
DESCRIPTION:
URL:https://www.union-lasberg.at/event/spring-beats/
LOCATION:Kernlandhalle Lasberg\, Am Sportplatz 1\, Lasberg\, 4291\, Österreich
CATEGORIES:Verein
END:VEVENT
BEGIN:VEVENT
DTSTART;TZID=Europe/Vienna:20250406T133000
DTEND;TZID=Europe/Vienna:20250406T220000
DTSTAMP:20260425T141359
CREATED:20250320T100358Z
LAST-MODIFIED:20250320T100358Z
UID:1745121-1743946200-1743976800@www.union-lasberg.at
SUMMARY:Tennis OPENing 🎾
DESCRIPTION:Tennis OPENing 2025 – Sei dabei! 🎾\nDie Tennissaison startet wieder\, und wir laden euch herzlich zum Tennis OPENing auf den Lasberger Tennisplätzen ein! Egal ob Anfänger\, Fortgeschrittene oder einfach nur Zuschauer – es ist für alle etwas dabei! \n📅 Datum: Sonntag\, 06. April 2025 (Ersatztermin: 12. April 2025)📍 Ort: Tennisplatz\, Sportplatz Lasberg⏰ Beginn: 13:30 Uhr \nWas erwartet euch?\n✅ Abwechslungsreiche Stationen für Kinder\, Anfänger und Fortgeschrittene✅ Kids-Programm von 13:30 bis 15:00 Uhr – spielerisch Tennis entdecken!✅ Pizza-Highlight: Unser Pizzaofen wird angeheizt – auch für Zuschauer und Fans ein absolutes Muss! 🍕🔥✅ Tiebreak-Turnier von 15:00 bis 17:00 Uhr – für alle Spielstärken! Zu gewinnen gibt es eine Kiste Bier oder Limo 🍺🥤✅ Schläger-Teststation: Für alle\, die sich ausprobieren oder neues Material testen möchten! \nOb Spieler:in oder Zuschauer:in – kommt vorbei und genießt einen tollen Nachmittag voller Sport\, Spaß und Geselligkeit! \n📌 Keine Anmeldung erforderlich – einfach vorbeikommen und mitmachen! \nWir freuen uns auf euch! 🎾💪🏼 \n#TennisOpening #Lasberg #TennisStart2025 #SportunionLasberg #SpielSpaßPizza
URL:https://www.union-lasberg.at/event/tennis-opening-%f0%9f%8e%be/
LOCATION:Sportanlage Lasberg\, Am Sportplatz 1\, Lasberg\, 4291\, Österreich
CATEGORIES:Tennis
ATTACH;FMTTYPE=image/jpeg:https://www.union-lasberg.at/wp-content/uploads/2025/03/Banner-e1742464948950.jpg
END:VEVENT
BEGIN:VEVENT
DTSTART;TZID=Europe/Vienna:20250118T053000
DTEND;TZID=Europe/Vienna:20250118T220000
DTSTAMP:20260425T141359
CREATED:20241220T184458Z
LAST-MODIFIED:20241220T184501Z
UID:1723569-1737178200-1737237600@www.union-lasberg.at
SUMMARY:Tagesschifahrt der WIMBERGER Sportunion Lasberg
DESCRIPTION:Die Union veranstaltet wieder eine Tagesschifahrt – wir freuen uns auf zahlreiche Teilnahme! ⛷️
URL:https://www.union-lasberg.at/event/tagesschifahrt/
CATEGORIES:Verein
END:VEVENT
BEGIN:VEVENT
DTSTART;TZID=Europe/Vienna:20241221T150000
DTEND;TZID=Europe/Vienna:20241221T210000
DTSTAMP:20260425T141359
CREATED:20241124T141517Z
LAST-MODIFIED:20241124T141614Z
UID:1717172-1734793200-1734814800@www.union-lasberg.at
SUMMARY:Punschstand der WIMBERGER Sportunion Lasberg
DESCRIPTION:Wir freuen uns auf Euer Kommen! 🎄
URL:https://www.union-lasberg.at/event/punschstand-24/
LOCATION:Wimberger Arena Lasberg\, Am Sportplatz 1\, Lasberg\, 4291\, Österreich
CATEGORIES:Verein
END:VEVENT
BEGIN:VEVENT
DTSTART;TZID=Europe/Vienna:20241102T133000
DTEND;TZID=Europe/Vienna:20241102T220000
DTSTAMP:20260425T141359
CREATED:20240917T102523Z
LAST-MODIFIED:20240917T102714Z
UID:1708041-1730554200-1730584800@www.union-lasberg.at
SUMMARY:Stocksport Hobby Turnier
DESCRIPTION:Am Samstag\, 02. November 2024 lädt die Sektion Stocksport der Sportunion Lasberg zum Hobbyturnier in die Stockhalle Lasberg ein! Melde dein Team (4 SchützInnen\, max. 2 Vereinsschützen) an und genießt einen spannenden Nachmittag mit sportlicher Action und leckerem Schnitzelessen. 😋 \n📅 Wann: 02. November 2024\n⏰ Treffen: 13:30 Uhr | Start: 14:00 Uhr\n📍 Wo: Stockhalle Lasberg\n💶 Nennpreis: 60 € pro Team (inkl. Schnitzelessen) \nJetzt anmelden bei Roman Haghofer:\n📞 0660/2967847\n✉️ roman.haghofer@gmx.at \nWir freuen uns auf euch! Stock Heil! \n#Stocksport #Hobbyturnier #Lasberg
URL:https://www.union-lasberg.at/event/stocksport-hobby-turnier/
LOCATION:Kernlandhalle Lasberg\, Am Sportplatz 1\, Lasberg\, 4291\, Österreich
CATEGORIES:Stocksport
END:VEVENT
BEGIN:VEVENT
DTSTART;TZID=Europe/Vienna:20240906T140000
DTEND;TZID=Europe/Vienna:20240907T230000
DTSTAMP:20260425T141359
CREATED:20240812T074809Z
LAST-MODIFIED:20240812T074809Z
UID:1701409-1725631200-1725750000@www.union-lasberg.at
SUMMARY:Tennis Ortsmeisterschaft
DESCRIPTION:
URL:https://www.union-lasberg.at/event/tennis-ortsmeisterschaft/
LOCATION:Wimberger Arena Lasberg\, Am Sportplatz 1\, Lasberg\, 4291\, Österreich
CATEGORIES:Tennis
ATTACH;FMTTYPE=image/jpeg:https://www.union-lasberg.at/wp-content/uploads/2024/08/Ortsmeisterschaft-Tennis-Facebook-Header.jpg
END:VEVENT
BEGIN:VEVENT
DTSTART;TZID=Europe/Vienna:20240817T130000
DTEND;TZID=Europe/Vienna:20240817T160000
DTSTAMP:20260425T141359
CREATED:20240812T080009Z
LAST-MODIFIED:20240812T080023Z
UID:1702221-1723899600-1723910400@www.union-lasberg.at
SUMMARY:Zwei Etappen in Lasberg | Wiesn Challenge
DESCRIPTION:Wir freuen uns\, als Veranstalter von 2 Etappen (Straßenlauf powered by Hotel Freigold – Impulshotel und Berglauf Buchberg powered by Lauritz – der energieeffiziente Installateur) am 17. August Teil der Freistädter Wiesn Challenge zu sein.
URL:https://www.union-lasberg.at/event/wiesn-challenge/
LOCATION:Wimberger Arena Lasberg\, Am Sportplatz 1\, Lasberg\, 4291\, Österreich
CATEGORIES:Tennis
END:VEVENT
BEGIN:VEVENT
DTSTART;TZID=Europe/Vienna:20240518T100000
DTEND;TZID=Europe/Vienna:20240518T190000
DTSTAMP:20260425T141359
CREATED:20240330T100040Z
LAST-MODIFIED:20240513T200436Z
UID:1635740-1716026400-1716058800@www.union-lasberg.at
SUMMARY:EARLY TENNIS OPENing
DESCRIPTION:
URL:https://www.union-lasberg.at/event/early-tennis-opening/
LOCATION:Wimberger Arena Lasberg\, Am Sportplatz 1\, Lasberg\, 4291\, Österreich
CATEGORIES:Tennis
ATTACH;FMTTYPE=image/jpeg:https://www.union-lasberg.at/wp-content/uploads/2024/05/te_early_tennis_lasberg_logo.jpg
END:VEVENT
BEGIN:VEVENT
DTSTART;TZID=Europe/Vienna:20221003T184500
DTEND;TZID=Europe/Vienna:20221003T200000
DTSTAMP:20260425T141359
CREATED:20220817T144014Z
LAST-MODIFIED:20220817T144014Z
UID:1351470-1664822700-1664827200@www.union-lasberg.at
SUMMARY:Fit in den Winter mit Alois
DESCRIPTION:
URL:https://www.union-lasberg.at/event/fit-in-den-winter-mit-alois-2/
LOCATION:Turnsaal VS Lasberg\, Oswalderstraße 8\, Lasberg\, 4291\, Österreich
CATEGORIES:Fitness/Bewegung
ATTACH;FMTTYPE=image/jpeg:https://www.union-lasberg.at/wp-content/uploads/2021/08/fi_fit_in_den_winter_logo.jpg
END:VEVENT
BEGIN:VEVENT
DTSTART;TZID=Europe/Vienna:20220915T193000
DTEND;TZID=Europe/Vienna:20220915T203000
DTSTAMP:20260425T141359
CREATED:20220817T145542Z
LAST-MODIFIED:20220817T145542Z
UID:1353150-1663270200-1663273800@www.union-lasberg.at
SUMMARY:Männerturnen mit Magdalena
DESCRIPTION:
URL:https://www.union-lasberg.at/event/maennerturnen-mit-magdalena/
LOCATION:Turnsaal VS Lasberg\, Oswalderstraße 8\, Lasberg\, 4291\, Österreich
CATEGORIES:Fitness/Bewegung
ATTACH;FMTTYPE=image/jpeg:https://www.union-lasberg.at/wp-content/uploads/2021/08/fi_maennerturnen_logo.jpg
END:VEVENT
BEGIN:VEVENT
DTSTART;TZID=Europe/Vienna:20220915T183000
DTEND;TZID=Europe/Vienna:20220915T193000
DTSTAMP:20260425T141359
CREATED:20220817T145347Z
LAST-MODIFIED:20220817T145347Z
UID:1352931-1663266600-1663270200@www.union-lasberg.at
SUMMARY:Core & More mit Magdalena
DESCRIPTION:
URL:https://www.union-lasberg.at/event/core-more-mit-magdalena/
LOCATION:Turnsaal VS Lasberg\, Oswalderstraße 8\, Lasberg\, 4291\, Österreich
CATEGORIES:Fitness/Bewegung
ATTACH;FMTTYPE=image/jpeg:https://www.union-lasberg.at/wp-content/uploads/2021/08/fi_core_and_more_logo.jpg
END:VEVENT
BEGIN:VEVENT
DTSTART;TZID=Europe/Vienna:20220913T183000
DTEND;TZID=Europe/Vienna:20220913T193000
DTSTAMP:20260425T141359
CREATED:20220817T145008Z
LAST-MODIFIED:20220817T145052Z
UID:1352435-1663093800-1663097400@www.union-lasberg.at
SUMMARY:Rücken Fit mit Babsi
DESCRIPTION:
URL:https://www.union-lasberg.at/event/ruecken-fit-mit-babsi/
LOCATION:Turnsaal VS Lasberg\, Oswalderstraße 8\, Lasberg\, 4291\, Österreich
CATEGORIES:Fitness/Bewegung
ATTACH;FMTTYPE=image/jpeg:https://www.union-lasberg.at/wp-content/uploads/2015/09/logo_rueckenfit.jpg
END:VEVENT
BEGIN:VEVENT
DTSTART;TZID=Europe/Vienna:20220913T173000
DTEND;TZID=Europe/Vienna:20220913T183000
DTSTAMP:20260425T141359
CREATED:20220817T144715Z
LAST-MODIFIED:20220817T145141Z
UID:1352039-1663090200-1663093800@www.union-lasberg.at
SUMMARY:Step Interval mit Babsi
DESCRIPTION:
URL:https://www.union-lasberg.at/event/step-interval-mit-babsi/
LOCATION:Turnsaal VS Lasberg\, Oswalderstraße 8\, Lasberg\, 4291\, Österreich
CATEGORIES:Fitness/Bewegung
END:VEVENT
BEGIN:VEVENT
DTSTART;TZID=Europe/Vienna:20221003T184500
DTEND;TZID=Europe/Vienna:20221003T200000
DTSTAMP:20260425T141359
CREATED:20220817T144014Z
LAST-MODIFIED:20220817T144014Z
UID:1351470-1664822700-1664827200@www.union-lasberg.at
SUMMARY:Fit in den Winter mit Alois
DESCRIPTION:
URL:https://www.union-lasberg.at/event/fit-in-den-winter-mit-alois-2/
LOCATION:Turnsaal VS Lasberg\, Oswalderstraße 8\, Lasberg\, 4291\, Österreich
CATEGORIES:Fitness/Bewegung
ATTACH;FMTTYPE=image/jpeg:https://www.union-lasberg.at/wp-content/uploads/2021/08/fi_fit_in_den_winter_logo.jpg
END:VEVENT
BEGIN:VEVENT
DTSTART;TZID=Europe/Vienna:20220915T193000
DTEND;TZID=Europe/Vienna:20220915T203000
DTSTAMP:20260425T141359
CREATED:20220817T145542Z
LAST-MODIFIED:20220817T145542Z
UID:1353150-1663270200-1663273800@www.union-lasberg.at
SUMMARY:Männerturnen mit Magdalena
DESCRIPTION:
URL:https://www.union-lasberg.at/event/maennerturnen-mit-magdalena/
LOCATION:Turnsaal VS Lasberg\, Oswalderstraße 8\, Lasberg\, 4291\, Österreich
CATEGORIES:Fitness/Bewegung
ATTACH;FMTTYPE=image/jpeg:https://www.union-lasberg.at/wp-content/uploads/2021/08/fi_maennerturnen_logo.jpg
END:VEVENT
BEGIN:VEVENT
DTSTART;TZID=Europe/Vienna:20220915T183000
DTEND;TZID=Europe/Vienna:20220915T193000
DTSTAMP:20260425T141359
CREATED:20220817T145347Z
LAST-MODIFIED:20220817T145347Z
UID:1352931-1663266600-1663270200@www.union-lasberg.at
SUMMARY:Core & More mit Magdalena
DESCRIPTION:
URL:https://www.union-lasberg.at/event/core-more-mit-magdalena/
LOCATION:Turnsaal VS Lasberg\, Oswalderstraße 8\, Lasberg\, 4291\, Österreich
CATEGORIES:Fitness/Bewegung
ATTACH;FMTTYPE=image/jpeg:https://www.union-lasberg.at/wp-content/uploads/2021/08/fi_core_and_more_logo.jpg
END:VEVENT
BEGIN:VEVENT
DTSTART;TZID=Europe/Vienna:20220913T183000
DTEND;TZID=Europe/Vienna:20220913T193000
DTSTAMP:20260425T141359
CREATED:20220817T145008Z
LAST-MODIFIED:20220817T145052Z
UID:1352435-1663093800-1663097400@www.union-lasberg.at
SUMMARY:Rücken Fit mit Babsi
DESCRIPTION:
URL:https://www.union-lasberg.at/event/ruecken-fit-mit-babsi/
LOCATION:Turnsaal VS Lasberg\, Oswalderstraße 8\, Lasberg\, 4291\, Österreich
CATEGORIES:Fitness/Bewegung
ATTACH;FMTTYPE=image/jpeg:https://www.union-lasberg.at/wp-content/uploads/2015/09/logo_rueckenfit.jpg
END:VEVENT
BEGIN:VEVENT
DTSTART;TZID=Europe/Vienna:20220913T173000
DTEND;TZID=Europe/Vienna:20220913T183000
DTSTAMP:20260425T141359
CREATED:20220817T144715Z
LAST-MODIFIED:20220817T145141Z
UID:1352039-1663090200-1663093800@www.union-lasberg.at
SUMMARY:Step Interval mit Babsi
DESCRIPTION:
URL:https://www.union-lasberg.at/event/step-interval-mit-babsi/
LOCATION:Turnsaal VS Lasberg\, Oswalderstraße 8\, Lasberg\, 4291\, Österreich
CATEGORIES:Fitness/Bewegung
END:VEVENT
BEGIN:VEVENT
DTSTART;TZID=Europe/Vienna:20221003T184500
DTEND;TZID=Europe/Vienna:20221003T200000
DTSTAMP:20260425T141359
CREATED:20220817T144014Z
LAST-MODIFIED:20220817T144014Z
UID:1351470-1664822700-1664827200@www.union-lasberg.at
SUMMARY:Fit in den Winter mit Alois
DESCRIPTION:
URL:https://www.union-lasberg.at/event/fit-in-den-winter-mit-alois-2/
LOCATION:Turnsaal VS Lasberg\, Oswalderstraße 8\, Lasberg\, 4291\, Österreich
CATEGORIES:Fitness/Bewegung
ATTACH;FMTTYPE=image/jpeg:https://www.union-lasberg.at/wp-content/uploads/2021/08/fi_fit_in_den_winter_logo.jpg
END:VEVENT
BEGIN:VEVENT
DTSTART;TZID=Europe/Vienna:20220915T193000
DTEND;TZID=Europe/Vienna:20220915T203000
DTSTAMP:20260425T141359
CREATED:20220817T145542Z
LAST-MODIFIED:20220817T145542Z
UID:1353150-1663270200-1663273800@www.union-lasberg.at
SUMMARY:Männerturnen mit Magdalena
DESCRIPTION:
URL:https://www.union-lasberg.at/event/maennerturnen-mit-magdalena/
LOCATION:Turnsaal VS Lasberg\, Oswalderstraße 8\, Lasberg\, 4291\, Österreich
CATEGORIES:Fitness/Bewegung
ATTACH;FMTTYPE=image/jpeg:https://www.union-lasberg.at/wp-content/uploads/2021/08/fi_maennerturnen_logo.jpg
END:VEVENT
BEGIN:VEVENT
DTSTART;TZID=Europe/Vienna:20220915T183000
DTEND;TZID=Europe/Vienna:20220915T193000
DTSTAMP:20260425T141359
CREATED:20220817T145347Z
LAST-MODIFIED:20220817T145347Z
UID:1352931-1663266600-1663270200@www.union-lasberg.at
SUMMARY:Core & More mit Magdalena
DESCRIPTION:
URL:https://www.union-lasberg.at/event/core-more-mit-magdalena/
LOCATION:Turnsaal VS Lasberg\, Oswalderstraße 8\, Lasberg\, 4291\, Österreich
CATEGORIES:Fitness/Bewegung
ATTACH;FMTTYPE=image/jpeg:https://www.union-lasberg.at/wp-content/uploads/2021/08/fi_core_and_more_logo.jpg
END:VEVENT
BEGIN:VEVENT
DTSTART;TZID=Europe/Vienna:20220913T183000
DTEND;TZID=Europe/Vienna:20220913T193000
DTSTAMP:20260425T141359
CREATED:20220817T145008Z
LAST-MODIFIED:20220817T145052Z
UID:1352435-1663093800-1663097400@www.union-lasberg.at
SUMMARY:Rücken Fit mit Babsi
DESCRIPTION:
URL:https://www.union-lasberg.at/event/ruecken-fit-mit-babsi/
LOCATION:Turnsaal VS Lasberg\, Oswalderstraße 8\, Lasberg\, 4291\, Österreich
CATEGORIES:Fitness/Bewegung
ATTACH;FMTTYPE=image/jpeg:https://www.union-lasberg.at/wp-content/uploads/2015/09/logo_rueckenfit.jpg
END:VEVENT
BEGIN:VEVENT
DTSTART;TZID=Europe/Vienna:20220913T173000
DTEND;TZID=Europe/Vienna:20220913T183000
DTSTAMP:20260425T141359
CREATED:20220817T144715Z
LAST-MODIFIED:20220817T145141Z
UID:1352039-1663090200-1663093800@www.union-lasberg.at
SUMMARY:Step Interval mit Babsi
DESCRIPTION:
URL:https://www.union-lasberg.at/event/step-interval-mit-babsi/
LOCATION:Turnsaal VS Lasberg\, Oswalderstraße 8\, Lasberg\, 4291\, Österreich
CATEGORIES:Fitness/Bewegung
END:VEVENT
BEGIN:VEVENT
DTSTART;TZID=Europe/Vienna:20221003T184500
DTEND;TZID=Europe/Vienna:20221003T200000
DTSTAMP:20260425T141359
CREATED:20220817T144014Z
LAST-MODIFIED:20220817T144014Z
UID:1351470-1664822700-1664827200@www.union-lasberg.at
SUMMARY:Fit in den Winter mit Alois
DESCRIPTION:
URL:https://www.union-lasberg.at/event/fit-in-den-winter-mit-alois-2/
LOCATION:Turnsaal VS Lasberg\, Oswalderstraße 8\, Lasberg\, 4291\, Österreich
CATEGORIES:Fitness/Bewegung
ATTACH;FMTTYPE=image/jpeg:https://www.union-lasberg.at/wp-content/uploads/2021/08/fi_fit_in_den_winter_logo.jpg
END:VEVENT
BEGIN:VEVENT
DTSTART;TZID=Europe/Vienna:20220915T193000
DTEND;TZID=Europe/Vienna:20220915T203000
DTSTAMP:20260425T141359
CREATED:20220817T145542Z
LAST-MODIFIED:20220817T145542Z
UID:1353150-1663270200-1663273800@www.union-lasberg.at
SUMMARY:Männerturnen mit Magdalena
DESCRIPTION:
URL:https://www.union-lasberg.at/event/maennerturnen-mit-magdalena/
LOCATION:Turnsaal VS Lasberg\, Oswalderstraße 8\, Lasberg\, 4291\, Österreich
CATEGORIES:Fitness/Bewegung
ATTACH;FMTTYPE=image/jpeg:https://www.union-lasberg.at/wp-content/uploads/2021/08/fi_maennerturnen_logo.jpg
END:VEVENT
BEGIN:VEVENT
DTSTART;TZID=Europe/Vienna:20220915T183000
DTEND;TZID=Europe/Vienna:20220915T193000
DTSTAMP:20260425T141359
CREATED:20220817T145347Z
LAST-MODIFIED:20220817T145347Z
UID:1352931-1663266600-1663270200@www.union-lasberg.at
SUMMARY:Core & More mit Magdalena
DESCRIPTION:
URL:https://www.union-lasberg.at/event/core-more-mit-magdalena/
LOCATION:Turnsaal VS Lasberg\, Oswalderstraße 8\, Lasberg\, 4291\, Österreich
CATEGORIES:Fitness/Bewegung
ATTACH;FMTTYPE=image/jpeg:https://www.union-lasberg.at/wp-content/uploads/2021/08/fi_core_and_more_logo.jpg
END:VEVENT
BEGIN:VEVENT
DTSTART;TZID=Europe/Vienna:20220913T183000
DTEND;TZID=Europe/Vienna:20220913T193000
DTSTAMP:20260425T141359
CREATED:20220817T145008Z
LAST-MODIFIED:20220817T145052Z
UID:1352435-1663093800-1663097400@www.union-lasberg.at
SUMMARY:Rücken Fit mit Babsi
DESCRIPTION:
URL:https://www.union-lasberg.at/event/ruecken-fit-mit-babsi/
LOCATION:Turnsaal VS Lasberg\, Oswalderstraße 8\, Lasberg\, 4291\, Österreich
CATEGORIES:Fitness/Bewegung
ATTACH;FMTTYPE=image/jpeg:https://www.union-lasberg.at/wp-content/uploads/2015/09/logo_rueckenfit.jpg
END:VEVENT
BEGIN:VEVENT
DTSTART;TZID=Europe/Vienna:20220913T173000
DTEND;TZID=Europe/Vienna:20220913T183000
DTSTAMP:20260425T141359
CREATED:20220817T144715Z
LAST-MODIFIED:20220817T145141Z
UID:1352039-1663090200-1663093800@www.union-lasberg.at
SUMMARY:Step Interval mit Babsi
DESCRIPTION:
URL:https://www.union-lasberg.at/event/step-interval-mit-babsi/
LOCATION:Turnsaal VS Lasberg\, Oswalderstraße 8\, Lasberg\, 4291\, Österreich
CATEGORIES:Fitness/Bewegung
END:VEVENT
BEGIN:VEVENT
DTSTART;TZID=Europe/Vienna:20221003T184500
DTEND;TZID=Europe/Vienna:20221003T200000
DTSTAMP:20260425T141359
CREATED:20220817T144014Z
LAST-MODIFIED:20220817T144014Z
UID:1351470-1664822700-1664827200@www.union-lasberg.at
SUMMARY:Fit in den Winter mit Alois
DESCRIPTION:
URL:https://www.union-lasberg.at/event/fit-in-den-winter-mit-alois-2/
LOCATION:Turnsaal VS Lasberg\, Oswalderstraße 8\, Lasberg\, 4291\, Österreich
CATEGORIES:Fitness/Bewegung
ATTACH;FMTTYPE=image/jpeg:https://www.union-lasberg.at/wp-content/uploads/2021/08/fi_fit_in_den_winter_logo.jpg
END:VEVENT
END:VCALENDAR